{
 "currentVersion": 10.91,
 "cimVersion": "2.9.0",
 "serviceDescription": "",
 "mapName": "Map",
 "description": "",
 "copyrightText": "",
 "supportsDynamicLayers": true,
 "layers": [
  {
   "id": 0,
   "name": "23942E125980N.sid",
   "parentLayerId": -1,
   "defaultVisibility": true,
   "subLayerIds": null,
   "minScale": 0,
   "maxScale": 0,
   "type": "Raster Layer",
   "supportsDynamicLegends": true
  },
  {
   "id": 1,
   "name": "23942E120964N.sid",
   "parentLayerId": -1,
   "defaultVisibility": true,
   "subLayerIds": null,
   "minScale": 0,
   "maxScale": 0,
   "type": "Raster Layer",
   "supportsDynamicLegends": true
  },
  {
   "id": 2,
   "name": "23942E120436N.sid",
   "parentLayerId": -1,
   "defaultVisibility": true,
   "subLayerIds": null,
   "minScale": 0,
   "maxScale": 0,
   "type": "Raster Layer",
   "supportsDynamicLegends": true
  },
  {
   "id": 3,
   "name": "23942E112516N.sid",
   "parentLayerId": -1,
   "defaultVisibility": true,
   "subLayerIds": null,
   "minScale": 0,
   "maxScale": 0,
   "type": "Raster Layer",
   "supportsDynamicLegends": true
  },
  {
   "id": 4,
   "name": "23810E120964N.sid",
   "parentLayerId": -1,
   "defaultVisibility": true,
   "subLayerIds": null,
   "minScale": 0,
   "maxScale": 0,
   "type": "Raster Layer",
   "supportsDynamicLegends": true
  },
  {
   "id": 5,
   "name": "23704E116476N.sid",
   "parentLayerId": -1,
   "defaultVisibility": true,
   "subLayerIds": null,
   "minScale": 0,
   "maxScale": 0,
   "type": "Raster Layer",
   "supportsDynamicLegends": true
  },
  {
   "id": 6,
   "name": "23704E116212N.sid",
   "parentLayerId": -1,
   "defaultVisibility": true,
   "subLayerIds": null,
   "minScale": 0,
   "maxScale": 0,
   "type": "Raster Layer",
   "supportsDynamicLegends": true
  },
  {
   "id": 7,
   "name": "23625E125188N.sid",
   "parentLayerId": -1,
   "defaultVisibility": true,
   "subLayerIds": null,
   "minScale": 0,
   "maxScale": 0,
   "type": "Raster Layer",
   "supportsDynamicLegends": true
  },
  {
   "id": 8,
   "name": "23229E120964N.sid",
   "parentLayerId": -1,
   "defaultVisibility": true,
   "subLayerIds": null,
   "minScale": 0,
   "maxScale": 0,
   "type": "Raster Layer",
   "supportsDynamicLegends": true
  },
  {
   "id": 9,
   "name": "23229E119380N.sid",
   "parentLayerId": -1,
   "defaultVisibility": true,
   "subLayerIds": null,
   "minScale": 0,
   "maxScale": 0,
   "type": "Raster Layer",
   "supportsDynamicLegends": true
  },
  {
   "id": 10,
   "name": "23229E112516N.sid",
   "parentLayerId": -1,
   "defaultVisibility": true,
   "subLayerIds": null,
   "minScale": 0,
   "maxScale": 0,
   "type": "Raster Layer",
   "supportsDynamicLegends": true
  },
  {
   "id": 11,
   "name": "23176E119380N.sid",
   "parentLayerId": -1,
   "defaultVisibility": true,
   "subLayerIds": null,
   "minScale": 0,
   "maxScale": 0,
   "type": "Raster Layer",
   "supportsDynamicLegends": true
  },
  {
   "id": 12,
   "name": "23176E112516N.sid",
   "parentLayerId": -1,
   "defaultVisibility": true,
   "subLayerIds": null,
   "minScale": 0,
   "maxScale": 0,
   "type": "Raster Layer",
   "supportsDynamicLegends": true
  },
  {
   "id": 13,
   "name": "23097E131788N.sid",
   "parentLayerId": -1,
   "defaultVisibility": true,
   "subLayerIds": null,
   "minScale": 0,
   "maxScale": 0,
   "type": "Raster Layer",
   "supportsDynamicLegends": true
  },
  {
   "id": 14,
   "name": "22965E127828N.sid",
   "parentLayerId": -1,
   "defaultVisibility": true,
   "subLayerIds": null,
   "minScale": 0,
   "maxScale": 0,
   "type": "Raster Layer",
   "supportsDynamicLegends": true
  },
  {
   "id": 15,
   "name": "22965E125188N.sid",
   "parentLayerId": -1,
   "defaultVisibility": true,
   "subLayerIds": null,
   "minScale": 0,
   "maxScale": 0,
   "type": "Raster Layer",
   "supportsDynamicLegends": true
  },
  {
   "id": 16,
   "name": "22912E120964N.sid",
   "parentLayerId": -1,
   "defaultVisibility": true,
   "subLayerIds": null,
   "minScale": 0,
   "maxScale": 0,
   "type": "Raster Layer",
   "supportsDynamicLegends": true
  },
  {
   "id": 17,
   "name": "22490E120964N.sid",
   "parentLayerId": -1,
   "defaultVisibility": true,
   "subLayerIds": null,
   "minScale": 0,
   "maxScale": 0,
   "type": "Raster Layer",
   "supportsDynamicLegends": true
  },
  {
   "id": 18,
   "name": "22490E116476N.sid",
   "parentLayerId": -1,
   "defaultVisibility": true,
   "subLayerIds": null,
   "minScale": 0,
   "maxScale": 0,
   "type": "Raster Layer",
   "supportsDynamicLegends": true
  },
  {
   "id": 19,
   "name": "22490E112780N.sid",
   "parentLayerId": -1,
   "defaultVisibility": true,
   "subLayerIds": null,
   "minScale": 0,
   "maxScale": 0,
   "type": "Raster Layer",
   "supportsDynamicLegends": true
  },
  {
   "id": 20,
   "name": "22199E112780N.sid",
   "parentLayerId": -1,
   "defaultVisibility": true,
   "subLayerIds": null,
   "minScale": 0,
   "maxScale": 0,
   "type": "Raster Layer",
   "supportsDynamicLegends": true
  },
  {
   "id": 21,
   "name": "22014E122812N.sid",
   "parentLayerId": -1,
   "defaultVisibility": true,
   "subLayerIds": null,
   "minScale": 0,
   "maxScale": 0,
   "type": "Raster Layer",
   "supportsDynamicLegends": true
  },
  {
   "id": 22,
   "name": "21962E113044N.sid",
   "parentLayerId": -1,
   "defaultVisibility": true,
   "subLayerIds": null,
   "minScale": 0,
   "maxScale": 0,
   "type": "Raster Layer",
   "supportsDynamicLegends": true
  },
  {
   "id": 23,
   "name": "21830E119908N.sid",
   "parentLayerId": -1,
   "defaultVisibility": true,
   "subLayerIds": null,
   "minScale": 0,
   "maxScale": 0,
   "type": "Raster Layer",
   "supportsDynamicLegends": true
  },
  {
   "id": 24,
   "name": "21777E117532N.sid",
   "parentLayerId": -1,
   "defaultVisibility": true,
   "subLayerIds": null,
   "minScale": 0,
   "maxScale": 0,
   "type": "Raster Layer",
   "supportsDynamicLegends": true
  },
  {
   "id": 25,
   "name": "21724E113044N.sid",
   "parentLayerId": -1,
   "defaultVisibility": true,
   "subLayerIds": null,
   "minScale": 0,
   "maxScale": 0,
   "type": "Raster Layer",
   "supportsDynamicLegends": true
  },
  {
   "id": 26,
   "name": "Map_BM",
   "parentLayerId": -1,
   "defaultVisibility": true,
   "subLayerIds": [
    27
   ],
   "minScale": 0,
   "maxScale": 0,
   "type": "Group Layer",
   "supportsDynamicLegends": false
  },
  {
   "id": 27,
   "name": "Cobdry",
   "parentLayerId": 26,
   "defaultVisibility": true,
   "subLayerIds": null,
   "minScale": 0,
   "maxScale": 0,
   "type": "Feature Layer",
   "geometryType": "esriGeometryPolygon",
   "supportsDynamicLegends": true
  }
 ],
 "tables": [],
 "spatialReference": {
  "wkid": 102655,
  "latestWkid": 2233,
  "xyTolerance": 0.0010240000009536746,
  "zTolerance": 2.0E-5,
  "mTolerance": 2.0E-5,
  "falseX": -119381300,
  "falseY": -93979800,
  "xyUnits": 3048.0060960121928,
  "falseZ": -100000,
  "zUnits": 10000,
  "falseM": -100000,
  "mUnits": 10000
 },
 "singleFusedMapCache": true,
 "tileInfo": {
  "rows": 256,
  "cols": 256,
  "dpi": 96,
  "format": "JPEG",
  "compressionQuality": 90,
  "origin": {
   "x": -119381300,
   "y": 1.5078280000000003E8
  },
  "spatialReference": {
   "wkid": 102655,
   "latestWkid": 2233,
   "xyTolerance": 0.0010240000009536746,
   "zTolerance": 2.0E-5,
   "mTolerance": 2.0E-5,
   "falseX": -119381300,
   "falseY": -93979800,
   "xyUnits": 3048.0060960121928,
   "falseZ": -100000,
   "zUnits": 10000,
   "falseM": -100000,
   "mUnits": 10000
  },
  "lods": [
   {
    "level": 0,
    "resolution": 444.4444444444444,
    "scale": 512000
   },
   {
    "level": 1,
    "resolution": 222.2222222222222,
    "scale": 256000
   },
   {
    "level": 2,
    "resolution": 111.1111111111111,
    "scale": 128000
   },
   {
    "level": 3,
    "resolution": 55.55555555555555,
    "scale": 64000
   },
   {
    "level": 4,
    "resolution": 27.777777777777775,
    "scale": 32000
   },
   {
    "level": 5,
    "resolution": 13.888888888888888,
    "scale": 16000
   },
   {
    "level": 6,
    "resolution": 6.944444444444444,
    "scale": 8000
   },
   {
    "level": 7,
    "resolution": 3.472222222222222,
    "scale": 4000
   },
   {
    "level": 8,
    "resolution": 1.736111111111111,
    "scale": 2000
   },
   {
    "level": 9,
    "resolution": 0.8680555555555555,
    "scale": 1000
   },
   {
    "level": 10,
    "resolution": 0.43402777777777773,
    "scale": 500
   }
  ]
 },
 "storageInfo": {
  "storageFormat": "esriMapCacheStorageModeCompactV2",
  "packetSize": 128
 },
 "initialExtent": {
  "xmin": 2096116.4659401046,
  "ymin": 1121937.991288348,
  "xmax": 2488803.097884549,
  "ymax": 1369247.019066126,
  "spatialReference": {
   "wkid": 102655,
   "latestWkid": 2233,
   "xyTolerance": 0.0010240000009536746,
   "zTolerance": 2.0E-5,
   "mTolerance": 2.0E-5,
   "falseX": -119381300,
   "falseY": -93979800,
   "xyUnits": 3048.0060960121928,
   "falseZ": -100000,
   "zUnits": 10000,
   "falseM": -100000,
   "mUnits": 10000
  }
 },
 "fullExtent": {
  "xmin": 2158822.1899158657,
  "ymin": 1125168.250000003,
  "xmax": 2428536.0000000037,
  "ymax": 1368048.0000000189,
  "spatialReference": {
   "wkid": 102655,
   "latestWkid": 2233,
   "xyTolerance": 0.0010240000009536746,
   "zTolerance": 2.0E-5,
   "mTolerance": 2.0E-5,
   "falseX": -119381300,
   "falseY": -93979800,
   "xyUnits": 3048.0060960121928,
   "falseZ": -100000,
   "zUnits": 10000,
   "falseM": -100000,
   "mUnits": 10000
  }
 },
 "datesInUnknownTimezone": false,
 "minScale": 512000,
 "maxScale": 500,
 "minLOD": 0,
 "maxLOD": 10,
 "units": "esriFeet",
 "supportedImageFormatTypes": "PNG32,PNG24,PNG,JPG,DIB,TIFF,EMF,PS,PDF,GIF,SVG,SVGZ,BMP",
 "documentInfo": {
  "Title": "Map",
  "Author": "",
  "Comments": "",
  "Subject": "",
  "Category": "",
  "AntialiasingMode": "None",
  "TextAntialiasingMode": "Force",
  "Version": "2.9.0",
  "Keywords": "2025 orthos"
 },
 "supportsQueryDomains": true,
 "capabilities": "Map,Data",
 "supportedQueryFormats": "JSON, geoJSON, PBF",
 "hasVersionedData": true,
 "exportTilesAllowed": false,
 "referenceScale": 0.0,
 "supportsDatumTransformation": true,
 "floorAwareMapProperties": {
  "defaultFloorFilterSettings": {
   "isEnabled": false
  }
 },
 "archivingInfo": {
  "supportsHistoricMoment": false
 },
 "supportsClipping": true,
 "supportsSpatialFilter": true,
 "supportsTimeRelation": true,
 "supportsQueryDataElements": true,
 "maxRecordCount": 2000,
 "maxImageHeight": 4096,
 "maxImageWidth": 4096,
 "supportedExtensions": "",
 "serviceItemId": "5d73b69c671f4250bcbe1140ac730756"
}
